BEGIN:VCALENDAR
VERSION:2.0
PRODID:-//ChamberMaster//Event Calendar 2.0//EN
METHOD:PUBLISH
X-PUBLISHED-TTL:P3D
REFRESH-INTERVAL:P3D
CALSCALE:GREGORIAN
BEGIN:VEVENT
DTSTART:20140712T013000Z
DTEND:20140712T043000Z
X-MICROSOFT-CDO-ALLDAYEVENT:FALSE
SUMMARY:Spring Creek Supper Club
DESCRIPTION:For this "underground dinner" event\, Andrae's Kitchen will cater a Spanish-themed\, three-course dinner with wine pairing in the Electric Lounge at Gesa Power House Theatre. Come enjoy an evening of fine dining in a unique venue\, Spring Valley Vineyard wines\, and music by Blue Mountain Spanish Sound. A limited number of all-inclusive $95 tickets are available. Proceeds will benefit the Shakespeare Walla Walla Internship Program which provides local aspiring actors opportunities to participate in professional theatrical productions.
X-ALT-DESC;FMTTYPE=text/html:For this &quot\;underground dinner&quot\; event\, Andrae&#39\;s Kitchen will cater a Spanish-themed\, three-course dinner with wine pairing in the Electric Lounge at Gesa Power House Theatre. Come enjoy an evening of fine dining in a unique venue\, Spring Valley Vineyard wines\, and music by Blue Mountain Spanish Sound. A limited number of all-inclusive $95 tickets are available. Proceeds will benefit the Shakespeare Walla Walla Internship Program which provides local aspiring actors opportunities to participate in professional theatrical productions.&nbsp\;
LOCATION:Gesa Power House Theatre
UID:e.65.1807
SEQUENCE:3
DTSTAMP:20260421T190656Z
URL:https://business.wwvchamber.com/events/details/spring-creek-supper-club-07-11-2014-1807
END:VEVENT

END:VCALENDAR
