BEGIN:VCALENDAR
VERSION:2.0
PRODID:-//ChamberMaster//Event Calendar 2.0//EN
METHOD:PUBLISH
X-PUBLISHED-TTL:P3D
REFRESH-INTERVAL:P3D
CALSCALE:GREGORIAN
BEGIN:VEVENT
DTSTART:20140418T003000Z
DTEND:20140418T030000Z
X-MICROSOFT-CDO-ALLDAYEVENT:FALSE
SUMMARY:Spring Eggplosion Event
DESCRIPTION:Spring Eggsplosion Event!\n\nEgg Hunt and Vendor Eggstravaganza at Walla Walla Carpet One\, 1611 W. Rose Street\, Thursday\, April 17th\, 5:30 to 8pm.   EGG HUNT for children 8 and under. Vendors will be offering EGGceptional Deals!!!   FREE admission\, food\, door prizes\, and fun!
X-ALT-DESC;FMTTYPE=text/html:Spring Eggsplosion Event!<br />\nEgg Hunt and Vendor Eggstravaganza&nbsp\;at Walla Walla&nbsp\;Carpet One\, 1611 W. Rose Street\, Thursday\, April 17th\, 5:30 to 8pm.&nbsp\;&nbsp\; EGG HUNT for children 8 and under. Vendors will be offering EGGceptional Deals!!!&nbsp\;&nbsp\; FREE admission\, food\, door prizes\, and fun!<br />\n&nbsp\;
LOCATION:Walla Walla Carpet One
UID:e.65.1682
SEQUENCE:3
DTSTAMP:20260421T224135Z
URL:https://business.wwvchamber.com/events/details/spring-eggplosion-event-04-17-2014-1682
END:VEVENT

END:VCALENDAR
