BEGIN:VCALENDAR
VERSION:2.0
PRODID:-//ChamberMaster//Event Calendar 2.0//EN
METHOD:PUBLISH
X-PUBLISHED-TTL:P3D
REFRESH-INTERVAL:P3D
CALSCALE:GREGORIAN
BEGIN:VEVENT
DTSTART:20140502T180000Z
DTEND:20140526T020000Z
X-MICROSOFT-CDO-ALLDAYEVENT:FALSE
SUMMARY:Spring Exhibition at Walla Pop Up! A Co-Operative Art Gallery
DESCRIPTION:Walla Walla Pop Up\, a co-operative art gallery\, will be holding a Spring Exhibition May 2  through May 25 at 1 West Alder Street in Walla Walla. An opening gala will be held Friday\, May 2 at 6:00pm.
X-ALT-DESC;FMTTYPE=text/html:Walla Walla Pop Up\, a co-operative art gallery\, will be holding a Spring Exhibition May 2 &nbsp\;through May 25 at 1 West Alder Street in Walla Walla. An opening gala will be held Friday\, May 2 at 6:00pm.
LOCATION:1 West Alder Street Walla Walla\, WA 99362
UID:e.65.1732
SEQUENCE:3
DTSTAMP:20260421T211355Z
URL:https://business.wwvchamber.com/events/details/spring-exhibition-at-walla-pop-up-a-co-operative-art-gallery-05-02-2014-1732
END:VEVENT

END:VCALENDAR
