BEGIN:VCALENDAR
VERSION:2.0
PRODID:-//ChamberMaster//Event Calendar 2.0//EN
METHOD:PUBLISH
X-PUBLISHED-TTL:P3D
REFRESH-INTERVAL:P3D
CALSCALE:GREGORIAN
BEGIN:VEVENT
DTSTART:20140503T170000Z
DTEND:20140505T000000Z
X-MICROSOFT-CDO-ALLDAYEVENT:FALSE
SUMMARY:Spring Release at Dunham Cellars
DESCRIPTION:Come one\, come all! Join us Saturday-Sunday to taste our new releases and enjoy delicious pasta made fresh from our cheese wheel. Meet our winemaking team as they pour our award-winning wines. Also be sure to browse our tasting room for great spring gifts and decor.
X-ALT-DESC;FMTTYPE=text/html:Come one\, come all! Join us Saturday-Sunday to taste our new releases and enjoy delicious pasta made fresh from our cheese wheel. Meet our winemaking team as they pour our award-winning wines. Also be sure to browse our tasting room for great spring gifts and decor.
LOCATION:150 E Boeing Ave\, Walla Walla\, WA 99362
UID:e.65.1676
SEQUENCE:3
DTSTAMP:20260421T224233Z
URL:https://business.wwvchamber.com/events/details/spring-release-at-dunham-cellars-05-03-2014-1676
END:VEVENT

END:VCALENDAR
