BEGIN:VCALENDAR
VERSION:2.0
PRODID:-//ChamberMaster//Event Calendar 2.0//EN
METHOD:PUBLISH
X-PUBLISHED-TTL:P3D
REFRESH-INTERVAL:P3D
CALSCALE:GREGORIAN
BEGIN:VEVENT
DTSTART:20240504T180000Z
DTEND:20240504T230000Z
X-MICROSOFT-CDO-ALLDAYEVENT:FALSE
SUMMARY:Spring Release Barrel Tasting @ Trolley House!
DESCRIPTION:Sip and enjoy a spring tasting at Browne's Historic Trolley House in the barrel room or on the patio. Enjoy a tasting and Barrel sample. Wine Club members will enjoy 50% tastings along with their wine discounts on any bottles purchased. (Log in with email address to receive discount code) Enjoy newly released wines so be the first to try! Enjoy light bites to pair with wine
X-ALT-DESC;FMTTYPE=text/html:Sip and enjoy a spring tasting at Browne&#39\;s Historic Trolley House in the barrel room or on the patio. Enjoy a tasting and Barrel sample. Wine Club members will enjoy 50% tastings along with their wine discounts on any bottles purchased. (Log in with email address to receive discount code) Enjoy newly released wines so be the first to try! Enjoy light bites to pair with wine
LOCATION:1102 W Cherry St. Walla Walla\, WA
UID:e.65.20016
SEQUENCE:3
DTSTAMP:20260425T174055Z
URL:https://business.wwvchamber.com/events/details/spring-release-barrel-tasting-trolley-house-20016
END:VEVENT

END:VCALENDAR
