BEGIN:VCALENDAR
VERSION:2.0
PRODID:-//ChamberMaster//Event Calendar 2.0//EN
METHOD:PUBLISH
X-PUBLISHED-TTL:P3D
REFRESH-INTERVAL:P3D
CALSCALE:GREGORIAN
BEGIN:VEVENT
DTSTART;VALUE=DATE:20140502
DTEND;VALUE=DATE:20140505
TRANSP:TRANSPARENT
X-MICROSOFT-CDO-ALLDAYEVENT:TRUE
SUMMARY:Spring Release Weekend
DESCRIPTION:Spring Release Weekend at Spring Valley Vineyard\n\n\n\nTasting Room Hours:  Friday\, May 2nd  10:00am - 5:00pm\n\n                                 Saturday\, May 3rd  10:00am - 5:00pm with appetizers from Fat Duck and live                                      music by Robert Meade.  $8 tasting fee includes logo glass.\n\n                                 Sunday\, May 4th  10:00am - 4:30pm\n\n\n\nRanch Hours:  Friday\, May 2nd  1:00pm - 4:00pm " Family Reunion at the Ranch" with appetizers from                       Fat Duck and live music by Jesse and Anna Burgess.\n\n                      Saturday\, May 3rd  11:00am - 3:00pm with cheese and wine tasting and live music by                         Jesse and Anna Burgess.\n\n                      Ranch is closed on Sunday.\n\n\n\nContact the Tasting Room for directions to the Ranch 509-525-1506
X-ALT-DESC;FMTTYPE=text/html:Spring Release Weekend at Spring Valley Vineyard<br />\n<br />\nTasting Room Hours: &nbsp\;Friday\, May 2nd &nbsp\;10:00am - 5:00pm<br />\n&nbsp\;&nbsp\; &nbsp\; &nbsp\; &nbsp\; &nbsp\; &nbsp\; &nbsp\; &nbsp\; &nbsp\; &nbsp\; &nbsp\; &nbsp\; &nbsp\; &nbsp\; &nbsp\; &nbsp\; Saturday\, May 3rd &nbsp\;10:00am - 5:00pm with appetizers from Fat Duck and live &nbsp\; &nbsp\; &nbsp\; &nbsp\; &nbsp\; &nbsp\; &nbsp\; &nbsp\; &nbsp\; &nbsp\; &nbsp\; &nbsp\; &nbsp\; &nbsp\; &nbsp\; &nbsp\; &nbsp\; &nbsp\; &nbsp\;music by Robert Meade. &nbsp\;$8 tasting fee includes logo glass.<br />\n&nbsp\; &nbsp\; &nbsp\; &nbsp\; &nbsp\; &nbsp\; &nbsp\; &nbsp\; &nbsp\; &nbsp\; &nbsp\; &nbsp\; &nbsp\; &nbsp\; &nbsp\; &nbsp\; &nbsp\;Sunday\, May 4th &nbsp\;10:00am - 4:30pm<br />\n<br />\nRanch Hours: &nbsp\;Friday\, May 2nd &nbsp\;1:00pm - 4:00pm &quot\; Family Reunion at the Ranch&quot\; with appetizers from &nbsp\; &nbsp\; &nbsp\; &nbsp\; &nbsp\; &nbsp\; &nbsp\; &nbsp\; &nbsp\; &nbsp\; &nbsp\; Fat Duck and live music by Jesse and Anna Burgess.<br />\n&nbsp\; &nbsp\; &nbsp\; &nbsp\; &nbsp\; &nbsp\; &nbsp\; &nbsp\; &nbsp\; &nbsp\; &nbsp\; Saturday\, May 3rd &nbsp\;11:00am - 3:00pm with cheese and wine tasting and live music by &nbsp\; &nbsp\; &nbsp\; &nbsp\; &nbsp\; &nbsp\; &nbsp\; &nbsp\; &nbsp\; &nbsp\; &nbsp\; &nbsp\; Jesse and Anna Burgess.<br />\n&nbsp\;&nbsp\; &nbsp\; &nbsp\; &nbsp\; &nbsp\; &nbsp\; &nbsp\; &nbsp\; &nbsp\; &nbsp\; &nbsp\;Ranch is closed on Sunday.<br />\n<br />\nContact the Tasting Room for directions to the Ranch 509-525-1506
LOCATION:Spring Valley Tasting Room and the Derby Corkrum Ranch
UID:e.65.1736
SEQUENCE:3
DTSTAMP:20260421T210843Z
URL:https://business.wwvchamber.com/events/details/spring-release-weekend-05-02-2014-1736
END:VEVENT

END:VCALENDAR
