BEGIN:VCALENDAR
VERSION:2.0
PRODID:-//ChamberMaster//Event Calendar 2.0//EN
METHOD:PUBLISH
X-PUBLISHED-TTL:P3D
REFRESH-INTERVAL:P3D
CALSCALE:GREGORIAN
BEGIN:VEVENT
DTSTART:20140315T233000Z
DTEND:20140316T030000Z
X-MICROSOFT-CDO-ALLDAYEVENT:FALSE
SUMMARY:St. Patrick's Day Celebration
DESCRIPTION:Join us for some family fun\, good food(4:30-7:30)\, & entertainment(5:00-8:00)!! We will be serving the traditional Irish pasties & green Irish beverages\, John Lesko's famous chili\, coleslaw\, & cupcakes. We have corndogs & jello for the kids.. All proceeds go to benefit Catholic Charities of Walla Walla & Walla Walla Catholic Schools.
X-ALT-DESC;FMTTYPE=text/html:Join us for some family fun\, good food(4:30-7:30)\, &amp\; entertainment(5:00-8:00)!! We will be serving the traditional Irish pasties &amp\; green Irish beverages\, John Lesko&#39\;s famous chili\, coleslaw\, &amp\; cupcakes. We have corndogs &amp\; jello for the kids.. All proceeds go to benefit Catholic Charities of Walla Walla &amp\; Walla Walla Catholic Schools.
LOCATION:St. Patrick's Blanchet Hall & Gym - 425 West Alder Street\, Walla Walla
UID:e.65.1639
SEQUENCE:3
DTSTAMP:20260422T022051Z
URL:https://business.wwvchamber.com/events/details/st-patrick-s-day-celebration-03-15-2014-1639
END:VEVENT

END:VCALENDAR
