BEGIN:VCALENDAR
VERSION:2.0
PRODID:-//ChamberMaster//Event Calendar 2.0//EN
METHOD:PUBLISH
X-PUBLISHED-TTL:P3D
REFRESH-INTERVAL:P3D
CALSCALE:GREGORIAN
BEGIN:VEVENT
DTSTART:20140316T210000Z
DTEND:20140316T230000Z
X-MICROSOFT-CDO-ALLDAYEVENT:FALSE
SUMMARY:St. Patty's Skate at the Ice Chalet
DESCRIPTION:All lads and lassies are invited to the YWCA Ice Chalet's St. Patty's Skate on Sunday\, March 16 from 2-4 p.m.  Skate to Irish tunes and nibble on green snacks for extra luck!  Standard admission rates apply.
X-ALT-DESC;FMTTYPE=text/html:All lads and lassies are invited to the YWCA Ice Chalet&rsquo\;s St. Patty&rsquo\;s Skate on Sunday\, March 16 from 2-4 p.m.&nbsp\; Skate to Irish tunes and nibble on green snacks for extra luck!&nbsp\; Standard admission rates apply.&nbsp\;<br />\n&nbsp\;
LOCATION:211 E Birch
UID:e.65.1643
SEQUENCE:3
DTSTAMP:20260422T022805Z
URL:https://business.wwvchamber.com/events/details/st-patty-s-skate-at-the-ice-chalet-03-16-2014-1643
END:VEVENT

END:VCALENDAR
