BEGIN:VCALENDAR
VERSION:2.0
PRODID:-//ChamberMaster//Event Calendar 2.0//EN
METHOD:PUBLISH
X-PUBLISHED-TTL:P3D
REFRESH-INTERVAL:P3D
CALSCALE:GREGORIAN
BEGIN:VEVENT
DTSTART:20141130T040000Z
DTEND:20141130T070000Z
X-MICROSOFT-CDO-ALLDAYEVENT:FALSE
SUMMARY:STAND UP COMEDY w/ DAN ST. GERMAIN ~ NIGHT 2 at Main Street Studios
DESCRIPTION:Dan St Germain was chosen as a featured comic in Variety?s annual prestigious ?10 Comics To Watch? list\, was listed as one of Paste Magazine?s Top 10 Great Underrated Comedians\, named Time Out NY?s ?Comedy Break Out? of 2013\, and he?s currently developing a show with FOX. He?s got a Half Hour special on Comedy Central and has appeared on Jimmy Fallon\, Conan\, Best Week Ever\, @Midnight\, We Love the 2000's\, John Oliver?s New York Stand-Up Show\, The Electric Company\, Guy Code\, and will be on Friends of the People this fall. He?s the creator and star of the web series Kicking Dan Out featured on My Damn Channel\, In Security on Comedy Central Studios\, and has collaborated with Above Average. A rare opportunity
X-ALT-DESC;FMTTYPE=text/html:Dan St Germain was chosen as a featured comic in Variety?s annual prestigious ?10 Comics To Watch? list\, was listed as one of Paste Magazine?s Top 10 Great Underrated Comedians\, named Time Out NY?s ?Comedy Break Out? of 2013\, and he?s currently developing a show with FOX. He?s got a Half Hour special on Comedy Central and has appeared on Jimmy Fallon\, Conan\, Best Week Ever\, @Midnight\, We Love the 2000&#39\;s\, John Oliver?s New York Stand-Up Show\, The Electric Company\, Guy Code\, and will be on Friends of the People this fall. He?s the creator and star of the web series Kicking Dan Out featured on My Damn Channel\, In Security on Comedy Central Studios\, and has collaborated with Above Average. A rare opportunity
LOCATION:Main Street Studios 207 West Main Street\, Walla Walla\, WA 99362
UID:e.65.1996
SEQUENCE:3
DTSTAMP:20260421T104620Z
URL:https://business.wwvchamber.com/events/details/stand-up-comedy-w-dan-st-germain-night-2-at-main-street-studios-11-29-2014-1996
END:VEVENT

END:VCALENDAR
