BEGIN:VCALENDAR
VERSION:2.0
PRODID:-//ChamberMaster//Event Calendar 2.0//EN
METHOD:PUBLISH
X-PUBLISHED-TTL:P3D
REFRESH-INTERVAL:P3D
CALSCALE:GREGORIAN
BEGIN:VEVENT
DTSTART:20141201T040000Z
DTEND:20141201T070000Z
X-MICROSOFT-CDO-ALLDAYEVENT:FALSE
SUMMARY:STAND UP COMEDY w/ JEFF DYE ~ NIGHT 3 at Main Street Studios
DESCRIPTION:JEFF DYE is an extremely talented comedian/actor who is the host of MTV?s hit prank show\, ?MONEY FROM STRANGERS? with Season 2 premiering on Thursday\, July 18th at 11pm ET/PT and also currently stars in MTV?s popular spinoff show ?GIRL CODE? as well. In addition\, Dye has hosted MTV?s ?NEW YEARS COUNTDOWN LIVE FROM TIME SQUARE? with Snooki and JWoww which was watched by over 3 million viewers and appeared on the premiere of TBS? ?WHO GETS THE LAST LAUGH? (with Bill Bellamy and Kunal Nayyar) this past April.
X-ALT-DESC;FMTTYPE=text/html:JEFF DYE is an extremely talented comedian/actor who is the host of MTV?s hit prank show\, ?MONEY FROM STRANGERS? with Season 2 premiering on Thursday\, July 18th at 11pm ET/PT and also currently stars in MTV?s popular spinoff show ?GIRL CODE? as well. In addition\, Dye has hosted MTV?s ?NEW YEARS COUNTDOWN LIVE FROM TIME SQUARE? with Snooki and JWoww which was watched by over 3 million viewers and appeared on the premiere of TBS? ?WHO GETS THE LAST LAUGH? (with Bill Bellamy and Kunal Nayyar) this past April.
LOCATION:Main Street Studios 207 West Main Street\, Walla Walla\, WA 99362
UID:e.65.1997
SEQUENCE:3
DTSTAMP:20260421T102738Z
URL:https://business.wwvchamber.com/events/details/stand-up-comedy-w-jeff-dye-night-3-at-main-street-studios-11-30-2014-1997
END:VEVENT

END:VCALENDAR
