BEGIN:VCALENDAR
VERSION:2.0
PRODID:-//ChamberMaster//Event Calendar 2.0//EN
METHOD:PUBLISH
X-PUBLISHED-TTL:P3D
REFRESH-INTERVAL:P3D
CALSCALE:GREGORIAN
BEGIN:VEVENT
DTSTART:20141129T030000Z
DTEND:20141129T060000Z
X-MICROSOFT-CDO-ALLDAYEVENT:FALSE
SUMMARY:STAND UP COMEDY WEEKEND w/ ANDY HAYNES ~ NIGHT 1 at Main Street Studios
DESCRIPTION:With performances on Conan\, Late Night with Jimmy Fallon\, and the New Faces showcase at the Montreal Just for Laughs Festival\, Andy is becoming a must see performer! Join us down at the studio for a truly delightful night of jokes and smiles!
X-ALT-DESC;FMTTYPE=text/html:With performances on Conan\, Late Night with Jimmy Fallon\, and the New Faces showcase at the Montreal Just for Laughs Festival\, Andy is becoming a must see performer! Join us down at the studio for a truly delightful night of jokes and smiles!
LOCATION:Main Street Studios 207 West Main Street\, Walla Walla\, WA 99362
UID:e.65.1995
SEQUENCE:3
DTSTAMP:20260421T115704Z
URL:https://business.wwvchamber.com/events/details/stand-up-comedy-weekend-w-andy-haynes-night-1-at-main-street-studios-11-28-2014-1995
END:VEVENT

END:VCALENDAR
