BEGIN:VCALENDAR
VERSION:2.0
PRODID:-//ChamberMaster//Event Calendar 2.0//EN
METHOD:PUBLISH
X-PUBLISHED-TTL:P3D
REFRESH-INTERVAL:P3D
CALSCALE:GREGORIAN
BEGIN:VEVENT
DTSTART:20140617T030000Z
DTEND:20140617T063000Z
X-MICROSOFT-CDO-ALLDAYEVENT:FALSE
SUMMARY:StandUp Comedy Night at Main Street Studios
DESCRIPTION:Since abandoning his successful pizza delivery career in 2000\, Gabriel's talent\, hard work\, and lack of a fall back plan have made him into one of North America's finest touring comics. A past winner of the prestigious Seattle International Comedy Competition\, Gabriel has made television appearances on Comedy Central's Live at Gotham\, the nationally syndicated Comedy.TV\, and Nickelodeon's Nickmom Night Out.
X-ALT-DESC;FMTTYPE=text/html:Since abandoning his successful pizza delivery career in 2000\, Gabriel&#39\;s talent\, hard work\, and lack of a fall back plan have made him into one of North America&#39\;s finest touring comics. A past winner of the prestigious Seattle International Comedy Competition\, Gabriel has made television appearances on Comedy Central&#39\;s Live at Gotham\, the nationally syndicated Comedy.TV\, and Nickelodeon&#39\;s Nickmom Night Out.
LOCATION:Main Street Studios 207\, West Main Street\, Walla Walla\, WA 99362
UID:e.65.1789
SEQUENCE:3
DTSTAMP:20260421T205422Z
URL:https://business.wwvchamber.com/events/details/standup-comedy-night-at-main-street-studios-06-16-2014-1789
END:VEVENT

END:VCALENDAR
