BEGIN:VCALENDAR
VERSION:2.0
PRODID:-//ChamberMaster//Event Calendar 2.0//EN
METHOD:PUBLISH
X-PUBLISHED-TTL:P3D
REFRESH-INTERVAL:P3D
CALSCALE:GREGORIAN
BEGIN:VEVENT
DTSTART:20140903T000000Z
DTEND:20140903T020000Z
X-MICROSOFT-CDO-ALLDAYEVENT:FALSE
SUMMARY:Stop Smoking Class
DESCRIPTION:For anyone wanting to quit smoking. This series of seven classes helps you adopt a smoke-free lifestyle. Series begins on September 2\, at 5 pm.
X-ALT-DESC;FMTTYPE=text/html:For anyone wanting to quit smoking. This series of seven classes helps you adopt a smoke-free lifestyle. Series begins on September 2\, at 5 pm.
LOCATION:Walla Walla General Hospital
UID:e.65.1834
SEQUENCE:3
DTSTAMP:20260421T140116Z
URL:https://business.wwvchamber.com/events/details/stop-smoking-class-09-02-2014-1834
END:VEVENT

END:VCALENDAR
