BEGIN:VCALENDAR
VERSION:2.0
PRODID:-//ChamberMaster//Event Calendar 2.0//EN
METHOD:PUBLISH
X-PUBLISHED-TTL:P3D
REFRESH-INTERVAL:P3D
CALSCALE:GREGORIAN
BEGIN:VEVENT
DTSTART:20140521T003000Z
DTEND:20140521T013000Z
X-MICROSOFT-CDO-ALLDAYEVENT:FALSE
SUMMARY:Strawberry Waffle Supper Fundraiser
DESCRIPTION:Strawberry Waffle Supper Fundraising Event at the Walla Walla Senior Center\n\nTuesday\, May 20th. 5:30 to 6:30 PM. 720 Sprague St. Walla Walla\, WA. Please come and enjoy live music while you eat a huge Belgian waffle smothered with strawberries\, topped with whipped cream and our famous sausage on the side\, all for only $4.00. Sponsored by our good friends at Park Manor! Excellent entertainment through out the evening by the amazing Cliff Spencer\, guitarist\, vocalist with a full one-man-band sound! There is also room for dancing! We have 50/50 Raffle\, too! All ages are welcomed. For questions or directions\, please call 527-3775. Thank you for supporting your local Senior Citizens Center and helping us to keep our doors open!
X-ALT-DESC;FMTTYPE=text/html:Strawberry Waffle Supper Fundraising Event at the Walla Walla Senior Center<br />\nTuesday\, May 20th. 5:30 to 6:30 PM. 720 Sprague St. Walla Walla\, WA. Please come and enjoy live music while you eat a huge Belgian waffle smothered with strawberries\, topped with whipped cream and our famous sausage on the side\, all for only $4.00. Sponsored by our good friends at Park Manor! Excellent entertainment through out the evening by the amazing Cliff Spencer\, guitarist\, vocalist with a full one-man-band sound! There is also room for dancing! We have 50/50 Raffle\, too!&nbsp\;All ages are welcomed. For questions or directions\, please call 527-3775. Thank you for supporting your local Senior Citizens Center and helping us to keep our doors open!<br />\n&nbsp\;
LOCATION:Walla Walla Senior Citizens Center
UID:e.65.1745
SEQUENCE:3
DTSTAMP:20260421T224556Z
URL:https://business.wwvchamber.com/events/details/strawberry-waffle-supper-fundraiser-05-20-2014-1745
END:VEVENT

END:VCALENDAR
