BEGIN:VCALENDAR
VERSION:2.0
PRODID:-//ChamberMaster//Event Calendar 2.0//EN
METHOD:PUBLISH
X-PUBLISHED-TTL:P3D
REFRESH-INTERVAL:P3D
CALSCALE:GREGORIAN
BEGIN:VEVENT
DTSTART:20140319T003000Z
DTEND:20140319T013000Z
X-MICROSOFT-CDO-ALLDAYEVENT:FALSE
SUMMARY:Strawberry Waffle Supper Fundraising Event
DESCRIPTION:Please come and enjoy live music while you eat a huge Belgian waffle smothered with strawberries\, topped with whipped cream and our famous sausage on the side\, all for only $4.00. Cliff Spencer is a guitarist\, vocalist with a full sound. Great music for dancing! All ages are welcomed. Thank you for coming and supporting your local Senior Citizens Center!\n\n\n\nTuesday\, March 18\n\n5:30 to 6:30 PM\n\n \n\n720 Sprague St\n\nWalla Walla\, WA\n\n  \n\nFor any questions or directions\, please call 527-3775
X-ALT-DESC;FMTTYPE=text/html:Please come and enjoy live music while you eat a huge Belgian waffle smothered with strawberries\, topped with whipped cream and our famous sausage on the side\, all for only $4.00. Cliff Spencer is a guitarist\, vocalist with a full sound. Great music for dancing! All ages are welcomed. Thank you for coming and supporting your local Senior Citizens Center!<br />\n<br />\nTuesday\, March 18<br />\n5:30 to 6:30 PM<br />\n&nbsp\;<br />\n720 Sprague St<br />\nWalla Walla\, WA<br />\n&nbsp\;&nbsp\;<br />\nFor any questions or directions\, please call 527-3775<br />\n&nbsp\;
LOCATION:Walla Walla Senior Center
UID:e.65.1641
SEQUENCE:3
DTSTAMP:20260422T004733Z
URL:https://business.wwvchamber.com/events/details/strawberry-waffle-supper-fundraising-event-03-18-2014-1641
END:VEVENT

END:VCALENDAR
