BEGIN:VCALENDAR
VERSION:2.0
PRODID:-//ChamberMaster//Event Calendar 2.0//EN
METHOD:PUBLISH
X-PUBLISHED-TTL:P3D
REFRESH-INTERVAL:P3D
CALSCALE:GREGORIAN
BEGIN:VEVENT
DTSTART:20140416T003000Z
DTEND:20140416T013000Z
X-MICROSOFT-CDO-ALLDAYEVENT:FALSE
SUMMARY:Strawberry Waffle Supper Fundraising Event
DESCRIPTION:Strawberry Waffle Supper Fundraising Event at the Walla Walla Senior Center\n\nTuesday\, April 15\n\n5:30 to 6:30 PM\n\n720 Sprague St\n\nWalla Walla\, WA\n\nPlease come and enjoy live music while you eat a huge Belgian waffle smothered with strawberries\, topped with whipped cream and our famous sausage on the side\, all for only $4.00. Sponsored by our good friends at Affinity Walla Walla! Cliff Spencer is a guitarist\, vocalist with a full sound as if he were a one man band. There is also room for dancing! All ages are welcomed. For any questions or directions\, please call 527-3775.
X-ALT-DESC;FMTTYPE=text/html:Strawberry Waffle Supper Fundraising Event at the Walla Walla Senior Center<br />\nTuesday\, April 15<br />\n5:30 to 6:30 PM<br />\n720 Sprague St<br />\nWalla Walla\, WA<br />\nPlease come and enjoy live music while you eat a huge Belgian waffle smothered with strawberries\, topped with whipped cream and our famous sausage on the side\, all for only $4.00. Sponsored by our good friends at Affinity Walla Walla! Cliff Spencer is a guitarist\, vocalist with a full sound as if he were a one man band. There is also room for dancing! All ages are welcomed. For any questions or directions\, please call 527-3775.<br />\n&nbsp\;
LOCATION:
UID:e.65.1667
SEQUENCE:3
DTSTAMP:20260421T230059Z
URL:https://business.wwvchamber.com/events/details/strawberry-waffle-supper-fundraising-event-04-15-2014-1667
END:VEVENT

END:VCALENDAR
