BEGIN:VCALENDAR
VERSION:2.0
PRODID:-//ChamberMaster//Event Calendar 2.0//EN
METHOD:PUBLISH
X-PUBLISHED-TTL:P3D
REFRESH-INTERVAL:P3D
CALSCALE:GREGORIAN
BEGIN:VEVENT
DTSTART:20140703T180000Z
DTEND:20140703T200000Z
X-MICROSOFT-CDO-ALLDAYEVENT:FALSE
SUMMARY:Summer Picnic Event at Walla Walla Senior Citizen's Center
DESCRIPTION:Please join us for our indoor Summer Picnic featuring hotdogs\, baked beans\, potato salad and more including brownies and ice cream for desert at the Walla Walla Senior Center with live musical entertainment by the amazing and lively Pianist Pat Yenney! July 3\, 2014 from 11:00 AM to 1:00 PM. This event is free to Senior Center members. There is a suggested donation of $4.00 for seniors 60 and over that are non-members and a mandatory fee of $7.00 for non-members that are under the age of 60. Sponsored by our friends at Garrison Creek Lodge and Eagle Meadows Emeritus Senior Living Communities. Call 509-527-3775 with any questions! Thank you and hurry on down to our picnic for loads of food and fun!!! All ages are welcomed to attend!
X-ALT-DESC;FMTTYPE=text/html:Please join us for our indoor Summer Picnic featuring hotdogs\, baked beans\, potato salad and more including brownies and ice cream for desert at the Walla Walla Senior Center with live musical entertainment by the amazing and lively Pianist Pat Yenney! July 3\, 2014 from 11:00 AM to 1:00 PM. This event is free to Senior Center members. There is a suggested donation of $4.00 for seniors 60 and over that are non-members and a mandatory fee of $7.00 for non-members that are under the age of 60. Sponsored by our friends at Garrison Creek Lodge and Eagle Meadows Emeritus Senior Living Communities. Call 509-527-3775 with any questions! Thank you and hurry on down to our picnic for loads of food and fun!!! All ages are welcomed to attend!
LOCATION:Walla Walla Senior Center 720 Sprague Walla Walla
UID:e.65.1801
SEQUENCE:3
DTSTAMP:20260421T180808Z
URL:https://business.wwvchamber.com/events/details/summer-picnic-event-at-walla-walla-senior-citizen-s-center-07-03-2014-1801
END:VEVENT

END:VCALENDAR
