BEGIN:VCALENDAR
VERSION:2.0
PRODID:-//ChamberMaster//Event Calendar 2.0//EN
METHOD:PUBLISH
X-PUBLISHED-TTL:P3D
REFRESH-INTERVAL:P3D
CALSCALE:GREGORIAN
BEGIN:VEVENT
DTSTART:20141022T013000Z
DTEND:20141022T030000Z
X-MICROSOFT-CDO-ALLDAYEVENT:FALSE
SUMMARY:Sustainable Living Center Public Workshop Series - Home Energy Saving Strategies
DESCRIPTION:Join SLC staff as we discuss where your utility dollar goes\, how to make no cost adjustments to save energy\, how to best spend smaller amounts\, and where you will save the most when making investments in larger projects.
X-ALT-DESC;FMTTYPE=text/html:Join SLC staff as we discuss where your utility dollar goes\, how to make no cost adjustments to save energy\, how to best spend smaller amounts\, and where you will save the most when making investments in larger projects.
LOCATION:The Home Depot - College Place
UID:e.65.1985
SEQUENCE:3
DTSTAMP:20260421T133833Z
URL:https://business.wwvchamber.com/events/details/sustainable-living-center-public-workshop-series-home-energy-saving-strategies-10-21-2014-1985
END:VEVENT

END:VCALENDAR
