BEGIN:VCALENDAR
VERSION:2.0
PRODID:-//ChamberMaster//Event Calendar 2.0//EN
METHOD:PUBLISH
X-PUBLISHED-TTL:P3D
REFRESH-INTERVAL:P3D
CALSCALE:GREGORIAN
BEGIN:VEVENT
DTSTART:20140430T013000Z
DTEND:20140430T030000Z
X-MICROSOFT-CDO-ALLDAYEVENT:FALSE
SUMMARY:Sustainable Living Center Workshop Series - Composting with Worms\, Inside or Out
DESCRIPTION:Learn about composting with worms! Utilize kitchen scraps to feed an indoor bin or an outdoor set up. We will teach you how to set up your indoor and outdoor bins\, supplies needed\, where to get worms\, what to feed them and more! A fun project that yields many benefits and most anyone can do! FREE workshop will be limited to 50 participants\, so please register at www.sustainablelivingcenter.com
X-ALT-DESC;FMTTYPE=text/html:Learn about composting with worms! Utilize kitchen scraps to feed an indoor bin or an outdoor set up. We will teach you how to set up your indoor and outdoor bins\, supplies needed\, where to get worms\, what to feed them and more! A fun project that yields many benefits and most anyone can do! FREE workshop will be limited to 50 participants\, so please register at www.sustainablelivingcenter.com
LOCATION:Walla Walla Community College Water and Environmental Center Rooms 2023/2024
UID:e.65.1731
SEQUENCE:3
DTSTAMP:20260421T230137Z
URL:https://business.wwvchamber.com/events/details/sustainable-living-center-workshop-series-composting-with-worms-inside-or-out-04-29-2014-1731
END:VEVENT

END:VCALENDAR
