BEGIN:VCALENDAR
VERSION:2.0
PRODID:-//ChamberMaster//Event Calendar 2.0//EN
METHOD:PUBLISH
X-PUBLISHED-TTL:P3D
REFRESH-INTERVAL:P3D
CALSCALE:GREGORIAN
BEGIN:VEVENT
DTSTART:20140326T013000Z
DTEND:20140326T030000Z
X-MICROSOFT-CDO-ALLDAYEVENT:FALSE
SUMMARY:Sustainable Living Center Workshop Series - Gardening for Beginners
DESCRIPTION:Back by popular demand!  Spring is just around the corner and it's the perfect time to join WSU Master Gardener Trainee Donna Tisher\, WSU Master Gardener Ann Skoglund\, and SLC to learn about site selection\, soil preparation and tips\, tricks and resources for starting or reviving your garden.  Free\, no registration required.
X-ALT-DESC;FMTTYPE=text/html:Back by popular demand! &nbsp\;Spring is just around the corner and it&#39\;s the perfect time to join WSU Master Gardener Trainee Donna Tisher\, WSU Master Gardener Ann Skoglund\, and SLC to learn about site selection\, soil preparation and tips\, tricks and resources for starting or reviving your garden. &nbsp\;Free\, no registration required.
LOCATION:Walla Walla Community College Water and Environmental Center Classrooms 2023/2024 640 Water Center Drive\, Walla Walla
UID:e.65.1653
SEQUENCE:3
DTSTAMP:20260422T005203Z
URL:https://business.wwvchamber.com/events/details/sustainable-living-center-workshop-series-gardening-for-beginners-03-25-2014-1653
END:VEVENT

END:VCALENDAR
