BEGIN:VCALENDAR
VERSION:2.0
PRODID:-//ChamberMaster//Event Calendar 2.0//EN
METHOD:PUBLISH
X-PUBLISHED-TTL:P3D
REFRESH-INTERVAL:P3D
CALSCALE:GREGORIAN
BEGIN:VEVENT
DTSTART:20141119T023000Z
DTEND:20141119T040000Z
X-MICROSOFT-CDO-ALLDAYEVENT:FALSE
SUMMARY:Sustainable Living Center Workshop Series - Intro to Backyard Chickens
DESCRIPTION:To have chickens or not to have chickens\, that is the question! Learn from SLC staff about the basics of raising chickens\, considerations\, resources\, and more. We may even have a chicken guest!
X-ALT-DESC;FMTTYPE=text/html:To have chickens or not to have chickens\, that is the question! Learn from SLC staff about the basics of raising chickens\, considerations\, resources\, and more. We may even have a chicken guest!
LOCATION:Walla Walla Community College Water and Environmental Center Room 2023/2024
UID:e.65.2244
SEQUENCE:3
DTSTAMP:20260421T105316Z
URL:https://business.wwvchamber.com/events/details/sustainable-living-center-workshop-series-intro-to-backyard-chickens-11-18-2014-2244
END:VEVENT

END:VCALENDAR
