BEGIN:VCALENDAR
VERSION:2.0
PRODID:-//ChamberMaster//Event Calendar 2.0//EN
METHOD:PUBLISH
X-PUBLISHED-TTL:P3D
REFRESH-INTERVAL:P3D
CALSCALE:GREGORIAN
BEGIN:VEVENT
DTSTART:20140416T023000Z
DTEND:20140416T043000Z
X-MICROSOFT-CDO-ALLDAYEVENT:FALSE
SUMMARY:Symphony Series: A Little Summer Night Music
DESCRIPTION:"A Little Summer Night Music" presented in collaboration with Blue Mountain Audubon Society\n\n\n\nFree "Inside the Music" pre-concert talk\, 6:30pm\, Reid Campus Center Ballroom\n\n            Delius   Two Pieces for Small Orchestra\n\n            Barber   Knoxville: Summer of 1915\, Op. 24\, Monica Griffin Hunter\, Soprano\n\n            Corigliano   Voyage featuring nature photography by Paul Bannick\n\n            Copland   Appalachian Spring
X-ALT-DESC;FMTTYPE=text/html:&ldquo\;A Little Summer Night Music&rdquo\; presented in collaboration with Blue Mountain Audubon Society<br />\n<br />\nFree &ldquo\;Inside the Music&rdquo\; pre-concert talk\, 6:30pm\, Reid Campus Center Ballroom<br />\n&nbsp\;&nbsp\;&nbsp\;&nbsp\;&nbsp\;&nbsp\;&nbsp\;&nbsp\;&nbsp\;&nbsp\;&nbsp\; Delius &ndash\; Two Pieces for Small Orchestra<br />\n&nbsp\;&nbsp\;&nbsp\;&nbsp\;&nbsp\;&nbsp\;&nbsp\;&nbsp\;&nbsp\;&nbsp\;&nbsp\; Barber &ndash\; Knoxville: Summer of 1915\, Op. 24\, Monica Griffin Hunter\, Soprano<br />\n&nbsp\;&nbsp\;&nbsp\;&nbsp\;&nbsp\;&nbsp\;&nbsp\;&nbsp\;&nbsp\;&nbsp\;&nbsp\; Corigliano &ndash\; Voyage featuring nature photography by Paul Bannick<br />\n&nbsp\;&nbsp\;&nbsp\;&nbsp\;&nbsp\;&nbsp\;&nbsp\;&nbsp\;&nbsp\;&nbsp\;&nbsp\; Copland &ndash\; Appalachian Spring
LOCATION:Cordiner Hall 345 Boyer Ave Walla Walla\, WA 99362
UID:e.65.729
SEQUENCE:3
DTSTAMP:20260421T230106Z
URL:https://business.wwvchamber.com/events/details/symphony-series-a-little-summer-night-music-04-15-2014-729
END:VEVENT

END:VCALENDAR
