BEGIN:VCALENDAR
VERSION:2.0
PRODID:-//ChamberMaster//Event Calendar 2.0//EN
METHOD:PUBLISH
X-PUBLISHED-TTL:P3D
REFRESH-INTERVAL:P3D
CALSCALE:GREGORIAN
BEGIN:VEVENT
DTSTART:20140415T023000Z
DTEND:20140415T043000Z
X-MICROSOFT-CDO-ALLDAYEVENT:FALSE
SUMMARY:Symphony Series: Classical Connections
DESCRIPTION:Featuring Maria Sampen\, violin\, and Tim Christie\, viola\n\n\n\nProkofiev\, Classical Symphony\, op. 25\n\nDavid Glenn\, Romantic Fantasy on Themes by Mozart\n\nWorld Premiere\, commissioned by the Walla Walla Symphony\n\nMozart\, Sinfonia Concertante\, K. 364\, Eb major
X-ALT-DESC;FMTTYPE=text/html:Featuring Maria Sampen\, violin\, and Tim Christie\, viola<br>\n<br>\nProkofiev\, Classical Symphony\, op. 25<br>\nDavid Glenn\, Romantic Fantasy on Themes by Mozart<br>\nWorld Premiere\, commissioned by the Walla Walla Symphony<br>\nMozart\, Sinfonia Concertante\, K. 364\, Eb major
LOCATION:Cordiner Hall 46 S. Park St
UID:e.65.1960
SEQUENCE:3
DTSTAMP:20260421T225203Z
URL:https://business.wwvchamber.com/events/details/symphony-series-classical-connections-04-14-2014-1960
END:VEVENT

END:VCALENDAR
