BEGIN:VCALENDAR
VERSION:2.0
PRODID:-//ChamberMaster//Event Calendar 2.0//EN
METHOD:PUBLISH
X-PUBLISHED-TTL:P3D
REFRESH-INTERVAL:P3D
CALSCALE:GREGORIAN
BEGIN:VEVENT
DTSTART:20140330T023000Z
DTEND:20140330T043000Z
X-MICROSOFT-CDO-ALLDAYEVENT:FALSE
SUMMARY:Symphony Series: Scheherazade and Bolero
DESCRIPTION:"Scheherazade and Bolero" fully staged ballet!\n\n\n\nRavel   Bolero\n\n\n\nDvo  k   String Quartet No. 12\, Op. 96\, American"\; Movement II\n\n\n\nRimsky-Korsakov   Scheherazade\n\n\n\nFeaturing the Eugene Ballet Company\, Toni Pimble\, Artistic Director & The Dance Center\, Idalee Hutson-Fish\, Artistic Director
X-ALT-DESC;FMTTYPE=text/html:&ldquo\;Scheherazade and Bolero&rdquo\; fully staged ballet!<br />\n<br />\nRavel &ndash\; Bolero<br />\n<br />\nDvo&#345\;&aacute\;k &ndash\; String Quartet No. 12\, Op. 96\, American&rdquo\;\; Movement II<br />\n<br />\nRimsky-Korsakov &ndash\; Scheherazade<br />\n<br />\nFeaturing the Eugene Ballet Company\, Toni Pimble\, Artistic Director &amp\; The Dance Center\, Idalee Hutson-Fish\, Artistic Director
LOCATION:Cordiner Hall 345 Boyer Ave. Walla Walla\, WA 99362
UID:e.65.728
SEQUENCE:3
DTSTAMP:20260422T022509Z
URL:https://business.wwvchamber.com/events/details/symphony-series-scheherazade-and-bolero-03-29-2014-728
END:VEVENT

END:VCALENDAR
