BEGIN:VCALENDAR
VERSION:2.0
PRODID:-//ChamberMaster//Event Calendar 2.0//EN
METHOD:PUBLISH
X-PUBLISHED-TTL:P3D
REFRESH-INTERVAL:P3D
CALSCALE:GREGORIAN
BEGIN:VEVENT
DTSTART:20140521T023000Z
DTEND:20140521T043000Z
X-MICROSOFT-CDO-ALLDAYEVENT:FALSE
SUMMARY:Symphony Series: Soulmates
DESCRIPTION:Mendelssohn: The Hebrides Overture\n\nBrahms: Symphony No. 3\, Op. 90 in F Major\n\nSchumann: Piano Concerto Op. 54 in A Minor\n\n\n\nDavid Hyunsu Kim\, Piano\n\n\n\nTickets available online: www.wwsymphony.org\n\n509-529-8020
X-ALT-DESC;FMTTYPE=text/html:Mendelssohn: The Hebrides Overture<br />\nBrahms: Symphony No. 3\, Op. 90 in F Major<br />\nSchumann: Piano Concerto Op. 54 in A Minor<br />\n<br />\nDavid Hyunsu Kim\, Piano<br />\n<br />\nTickets available online: www.wwsymphony.org<br />\n509-529-8020
LOCATION:Cordiner Hall 345 Boyer Ave Walla Walla\, WA 99362
UID:e.65.730
SEQUENCE:3
DTSTAMP:20260421T211141Z
URL:https://business.wwvchamber.com/events/details/symphony-series-soulmates-05-20-2014-730
END:VEVENT

END:VCALENDAR
