BEGIN:VCALENDAR
VERSION:2.0
PRODID:-//ChamberMaster//Event Calendar 2.0//EN
METHOD:PUBLISH
X-PUBLISHED-TTL:P3D
REFRESH-INTERVAL:P3D
CALSCALE:GREGORIAN
BEGIN:VEVENT
DTSTART:20140706T030000Z
DTEND:20140706T060000Z
X-MICROSOFT-CDO-ALLDAYEVENT:FALSE
SUMMARY:Tango Alpha Tango at Main Street Studios
DESCRIPTION:Tango Alpha Tango is a four-piece Portland\, OR rock & roll outfit lead by virtuosic guitarist\, singer/songwriter\, Nathan Trueb. He is joined by his wife Mirabai on bass guitar\, Joey Harmon on drums\, and Daniel Jones on keys and guitar. These northwest natives have been honing in on their fusion of blues and rock on stages from Portland all the way to Austin\, TX for SXSW and everywhere in between since 2008. The quality of their music will reel you in with memorable melodies and catchy guitar hooks peppered with funky bass-lines\, driving beats\, and psychedelic keys. You'll want to catch their live show any time you can because the group's energy is infectious and leaves audiences in a sweaty frenzy screaming for more.
X-ALT-DESC;FMTTYPE=text/html:Tango Alpha Tango is a four-piece Portland\, OR rock &amp\; roll outfit lead by virtuosic guitarist\, singer/songwriter\, Nathan Trueb. He is joined by his wife Mirabai on bass guitar\, Joey Harmon on drums\, and Daniel Jones on keys and guitar. These northwest natives have been honing in on their fusion of blues and rock on stages from Portland all the way to Austin\, TX for SXSW and everywhere in between since 2008. The quality of their music will reel you in with memorable melodies and catchy guitar hooks peppered with funky bass-lines\, driving beats\, and psychedelic keys. You&#39\;ll want to catch their live show any time you can because the group&#39\;s energy is infectious and leaves audiences in a sweaty frenzy screaming for more.
LOCATION:Main Street Studios - 207 West Main Street\, Walla Walla\, WA 99362
UID:e.65.1848
SEQUENCE:3
DTSTAMP:20260421T190619Z
URL:https://business.wwvchamber.com/events/details/tango-alpha-tango-at-main-street-studios-07-05-2014-1848
END:VEVENT

END:VCALENDAR
