BEGIN:VCALENDAR
VERSION:2.0
PRODID:-//ChamberMaster//Event Calendar 2.0//EN
METHOD:PUBLISH
X-PUBLISHED-TTL:P3D
REFRESH-INTERVAL:P3D
CALSCALE:GREGORIAN
BEGIN:VEVENT
DTSTART:20140713T183000Z
DTEND:20140713T190000Z
X-MICROSOFT-CDO-ALLDAYEVENT:FALSE
SUMMARY:Tannins & Tartans
DESCRIPTION:Join us as we listen to a group of bagpipers here in the valley from Portland\, Oregon.
X-ALT-DESC;FMTTYPE=text/html:Join us as we listen to a group of bagpipers here in the valley from Portland\, Oregon.
LOCATION:3796 Peppers Bridge Road Walla Walla\, WA 99362
UID:e.65.1857
SEQUENCE:3
DTSTAMP:20260421T180230Z
URL:https://business.wwvchamber.com/events/details/tannins-tartans-07-13-2014-1857
END:VEVENT

END:VCALENDAR
