BEGIN:VCALENDAR
VERSION:2.0
PRODID:-//ChamberMaster//Event Calendar 2.0//EN
METHOD:PUBLISH
X-PUBLISHED-TTL:P3D
REFRESH-INTERVAL:P3D
CALSCALE:GREGORIAN
BEGIN:VEVENT
DTSTART:20140802T210000Z
DTEND:20140802T223000Z
X-MICROSOFT-CDO-ALLDAYEVENT:FALSE
SUMMARY:The Harmonica Pocket
DESCRIPTION:The Adventist Health Little Watt's Children's Series of Family Entertainment continues with The Harmonica Pocket. When Harmonica Pocket takes the stage\, audiences don't just sit back to be entertained. Their shows deliver highly-interactive experiences that get children (and their grownups) singing and moving in their seats. With swinging story-songs\, hula hoops\, and a suitcase of props\, the group mixes up Music\, Movement\, and Imagination Play into a gigglish jambalaya. Audiences are invited to become a tree on a windy day\, flex creative writing skills by dreaming up lyrics to songs\, and make hilarious sounds as they toss around an imaginary "Ball of Nothing." The acoustic show is sprinkled with wah-wah guitar\, ukulele\, jaw harp\, washboard percussion\, harmonicas\, and an invented instrument called a "Hinklehorn" - part kazoo\, part plumbing fixtures. Zany skits\, hula hoop\, and spinning flags\, wrap every Harmonica Pocket show up with a thoughtful\, playful bow. Appropriate for ages 2-8.
X-ALT-DESC;FMTTYPE=text/html:The Adventist Health Little Watt&#39\;s Children&#39\;s Series of Family Entertainment continues with The Harmonica Pocket. When Harmonica Pocket takes the stage\, audiences don&#39\;t just sit back to be entertained. Their shows deliver highly-interactive experiences that get children (and their grownups) singing and moving in their seats. With swinging story-songs\, hula hoops\, and a suitcase of props\, the group mixes up Music\, Movement\, and Imagination Play into a gigglish jambalaya. Audiences are invited to become a tree on a windy day\, flex creative writing skills by dreaming up lyrics to songs\, and make hilarious sounds as they toss around an imaginary &quot\;Ball of Nothing.&quot\; The acoustic show is sprinkled with wah-wah guitar\, ukulele\, jaw harp\, washboard percussion\, harmonicas\, and an invented instrument called a &quot\;Hinklehorn&quot\; - part kazoo\, part plumbing fixtures. Zany skits\, hula hoop\, and spinning flags\, wrap every Harmonica Pocket show up with a thoughtful\, playful bow. Appropriate for ages 2-8.
LOCATION:Gesa Power House Theatre
UID:e.65.1810
SEQUENCE:3
DTSTAMP:20260421T160419Z
URL:https://business.wwvchamber.com/events/details/the-harmonica-pocket-08-02-2014-1810
END:VEVENT

END:VCALENDAR
