BEGIN:VCALENDAR
VERSION:2.0
PRODID:-//ChamberMaster//Event Calendar 2.0//EN
METHOD:PUBLISH
X-PUBLISHED-TTL:P3D
REFRESH-INTERVAL:P3D
CALSCALE:GREGORIAN
BEGIN:VEVENT
DTSTART:20140420T210000Z
DTEND:20140420T223000Z
X-MICROSOFT-CDO-ALLDAYEVENT:FALSE
SUMMARY:"The Importance of Being Earnest"
DESCRIPTION:Shakespeare Walla Walla presents Oscar Wilde?s outlandish masterpiece and one of the cleverest comedies in the English language. Dapper Jack Worthing and Algernon have fallen for two ladies who have their hearts set on marrying a man named Ernest. Both men concoct an elaborate deception which leads to even more outlandish surprises.
X-ALT-DESC;FMTTYPE=text/html:Shakespeare Walla Walla presents Oscar Wilde?s outlandish masterpiece and one of the cleverest comedies in the English language. Dapper Jack Worthing and Algernon have fallen for two ladies who have their hearts set on marrying a man named Ernest. Both men concoct an elaborate deception which leads to even more outlandish surprises.
LOCATION:Gesa Power House Theatre 111 N. Sixth Avenue Walla Walla\, WA
UID:e.65.1627
SEQUENCE:3
DTSTAMP:20260422T002737Z
URL:https://business.wwvchamber.com/events/details/the-importance-of-being-earnest-04-20-2014-1627
END:VEVENT

END:VCALENDAR
