BEGIN:VCALENDAR
VERSION:2.0
PRODID:-//ChamberMaster//Event Calendar 2.0//EN
METHOD:PUBLISH
X-PUBLISHED-TTL:P3D
REFRESH-INTERVAL:P3D
CALSCALE:GREGORIAN
BEGIN:VEVENT
DTSTART:20140329T040000Z
DTEND:20140329T065500Z
X-MICROSOFT-CDO-ALLDAYEVENT:FALSE
SUMMARY:The Randy Oxford Band - CD Release Party
DESCRIPTION:Seattle-based trombonist Randy Oxford is bringing his 6-piece high-energy blues and funk ensemble back to the Eastern Washington for a limited audience release at Sapolil Cellars in Downtown Walla Walla.\n\n\n\nOn Friday\, March 28th\, the band will be promoting its brand new recording\,  it feels good \, directly after an exciting launch at the International Blues Challenge in Memphis where it earned a highly-coveted spot in the competition's finals in 2011.
X-ALT-DESC;FMTTYPE=text/html:Seattle-based trombonist Randy Oxford is bringing his 6-piece high-energy blues and funk ensemble back to the Eastern Washington for a limited audience release at Sapolil Cellars in Downtown Walla Walla.<br />\n<br />\nOn Friday\, March 28th\, the band will be promoting its brand new recording\, &hellip\;it feels good&hellip\;\, directly after an exciting launch at the International Blues Challenge in Memphis where it earned a highly-coveted spot in the competition&rsquo\;s finals in 2011.
LOCATION:Sapolil Cellars 15 East Main Street Walla Walla\, WA 99362
UID:e.65.1620
SEQUENCE:3
DTSTAMP:20260422T004754Z
URL:https://business.wwvchamber.com/events/details/the-randy-oxford-band-cd-release-party-03-28-2014-1620
END:VEVENT

END:VCALENDAR
