BEGIN:VCALENDAR
VERSION:2.0
PRODID:-//ChamberMaster//Event Calendar 2.0//EN
METHOD:PUBLISH
X-PUBLISHED-TTL:P3D
REFRESH-INTERVAL:P3D
CALSCALE:GREGORIAN
BEGIN:VEVENT
DTSTART:20141017T030000Z
DTEND:20141017T063000Z
X-MICROSOFT-CDO-ALLDAYEVENT:FALSE
SUMMARY:The Record Company at Main Street Studios
DESCRIPTION:The Record Company is a roots/blues/rock trio based in Los Angeles. Steeped in the classic sounds of Muddy Waters and John Lee Hooker along with the jump of Howlin' Wolf\, The Record Company have burst onto the scene in a very short time\, performing their first show in January 2012. While never trying to simply emulate the great masters\, the band have found their own fresh take on the music and can best be described as a group giving a 21st century nod to a timeless art form.
X-ALT-DESC;FMTTYPE=text/html:The Record Company is a roots/blues/rock trio based in Los Angeles. Steeped in the classic sounds of Muddy Waters and John Lee Hooker along with the jump of Howlin&#39\; Wolf\, The Record Company have burst onto the scene in a very short time\, performing their first show in January 2012. While never trying to simply emulate the great masters\, the band have found their own fresh take on the music and can best be described as a group giving a 21st century nod to a timeless art form.
LOCATION:Main Street Studios 207 West main street\, Walla Walla\, WA 99362
UID:e.65.1944
SEQUENCE:3
DTSTAMP:20260421T121441Z
URL:https://business.wwvchamber.com/events/details/the-record-company-at-main-street-studios-10-16-2014-1944
END:VEVENT

END:VCALENDAR
