BEGIN:VCALENDAR
VERSION:2.0
PRODID:-//ChamberMaster//Event Calendar 2.0//EN
METHOD:PUBLISH
X-PUBLISHED-TTL:P3D
REFRESH-INTERVAL:P3D
CALSCALE:GREGORIAN
BEGIN:VEVENT
DTSTART:20140622T030000Z
DTEND:20140622T060000Z
X-MICROSOFT-CDO-ALLDAYEVENT:FALSE
SUMMARY:The Record Company\, Sean Flinn and The Royal We w/ Sudden Lovelys
DESCRIPTION:The Record Company is a roots/blues/rock trio based in Los Angeles. Steeped in the classic sounds of Muddy Waters and John Lee Hooker along with the jump of Howlin' Wolf\, The Record Company have burst onto the scene in a very short time\, performing their first show in January 2012. While never trying to simply emulate the great masters\, the band have found their own fresh take on the music and can best be described as a group giving a 21st century nod to a timeless art form.In 2012 Sean Flinn and (his band) The Royal We ranked in Paste Magazine?s Ten Oregon Bands You Should Listen To Now\, where Luke Larson calls Flinn ?a tried-and-true singer/songwriter? who ?has picked up his own eclectic style of crafting pop songs along the way...". The Sudden Lovelys describe their unique and earnest sound as ?Aggressive Folk.? Daniel writes\, plays guitar\, ferociously sings\, and kicks a vintage red suitcase.
X-ALT-DESC;FMTTYPE=text/html:The Record Company is a roots/blues/rock trio based in Los Angeles. Steeped in the classic sounds of Muddy Waters and John Lee Hooker along with the jump of Howlin&#39\; Wolf\, The Record Company have burst onto the scene in a very short time\, performing their first show in January 2012. While never trying to simply emulate the great masters\, the band have found their own fresh take on the music and can best be described as a group giving a 21st century nod to a timeless art form.In 2012 Sean Flinn and (his band) The Royal We ranked in Paste Magazine?s Ten Oregon Bands You Should Listen To Now\, where Luke Larson calls Flinn ?a tried-and-true singer/songwriter? who ?has picked up his own eclectic style of crafting pop songs along the way...&quot\;. The Sudden Lovelys describe their unique and earnest sound as ?Aggressive Folk.? Daniel writes\, plays guitar\, ferociously sings\, and kicks a vintage red suitcase.
LOCATION:Main Street Studios 207\, West Main Street\, Walla Walla\, WA 99362
UID:e.65.1794
SEQUENCE:3
DTSTAMP:20260421T195250Z
URL:https://business.wwvchamber.com/events/details/the-record-company-sean-flinn-and-the-royal-we-w-sudden-lovelys-06-21-2014-1794
END:VEVENT

END:VCALENDAR
