BEGIN:VCALENDAR
VERSION:2.0
PRODID:-//ChamberMaster//Event Calendar 2.0//EN
METHOD:PUBLISH
X-PUBLISHED-TTL:P3D
REFRESH-INTERVAL:P3D
CALSCALE:GREGORIAN
BEGIN:VEVENT
DTSTART:20140301T210000Z
DTEND:20140301T220000Z
X-MICROSOFT-CDO-ALLDAYEVENT:FALSE
SUMMARY:"The Secret Life of Walter Manny"
DESCRIPTION:An energetic physical comedy about an awkward eight-year-old boy whose overactive imagination gets him in and out of trouble. Great entertainment for the entire family!
X-ALT-DESC;FMTTYPE=text/html:An energetic physical comedy about an awkward eight-year-old boy whose overactive imagination gets him in and out of trouble. Great entertainment for the entire family!
LOCATION:Gesa Power House Theatre 111 N. Sixth Avenue Walla Walla\, WA 99362
UID:e.65.838
SEQUENCE:3
DTSTAMP:20260422T005206Z
URL:https://business.wwvchamber.com/events/details/the-secret-life-of-walter-manny-03-01-2014-838
END:VEVENT

END:VCALENDAR
