BEGIN:VCALENDAR
VERSION:2.0
PRODID:-//ChamberMaster//Event Calendar 2.0//EN
METHOD:PUBLISH
X-PUBLISHED-TTL:P3D
REFRESH-INTERVAL:P3D
CALSCALE:GREGORIAN
BEGIN:VEVENT
DTSTART:20260426T020000Z
DTEND:20260426T050000Z
X-MICROSOFT-CDO-ALLDAYEVENT:FALSE
SUMMARY:The Sunny Hours in Concert
DESCRIPTION:A performance of music from The Sunny Hours original Washington State Musical. You'll be swept into the vibrant musical story of a swing-era Seattle girl whose dreams collide with her era's conventions. The story\, lyrics\, lively swing melodies\, poignant ballads and towering anthems were all written by Washington State talent\, and the Tri-Cities\, WA based performers round out this thoroughly Washington State event. Come see\, hear and feel this charming musical story. Tickets on sale now!
X-ALT-DESC;FMTTYPE=text/html:A performance of music from The Sunny Hours original Washington State Musical. You&#39\;ll be swept into the vibrant musical story of a swing-era Seattle girl whose dreams collide with her era&#39\;s conventions. The story\, lyrics\, lively swing melodies\, poignant ballads and towering anthems were all written by Washington State talent\, and the Tri-Cities\, WA based performers round out this thoroughly Washington State event. Come see\, hear and feel this charming musical story. Tickets on sale now!
LOCATION:The Gesa Power House Theatre
UID:e.65.21939
SEQUENCE:3
DTSTAMP:20260422T091933Z
URL:https://business.wwvchamber.com/events/details/the-sunny-hours-in-concert-21939
END:VEVENT

END:VCALENDAR
