BEGIN:VCALENDAR
VERSION:2.0
PRODID:-//ChamberMaster//Event Calendar 2.0//EN
METHOD:PUBLISH
X-PUBLISHED-TTL:P3D
REFRESH-INTERVAL:P3D
CALSCALE:GREGORIAN
BEGIN:VEVENT
DTSTART:20141017T010000Z
DTEND:20141017T040000Z
X-MICROSOFT-CDO-ALLDAYEVENT:FALSE
SUMMARY:"Third Thursday" Live Music at Charles Smith Wines
DESCRIPTION:?Third Thursday? Live Music at Charles Smith Wines\nCelebrating the Grand Reopening of South Spokane Street!\n\nGreat Wine\nLive Music from Dillon Stiffler\nDelicious Grub from Why Not Pizza Truck\nOct 16 - 6PM-9PM No Cover
X-ALT-DESC;FMTTYPE=text/html:?Third Thursday? Live Music at Charles Smith Wines\nCelebrating the Grand Reopening of South Spokane Street!\n\nGreat Wine\nLive Music from Dillon Stiffler\nDelicious Grub from Why Not Pizza Truck\nOct 16 - 6PM-9PM No Cover\n\n\n
LOCATION:35 S. Spokane Street Walla Walla\, WA 99362
UID:e.65.1950
SEQUENCE:3
DTSTAMP:20260421T121316Z
URL:https://business.wwvchamber.com/events/details/third-thursday-live-music-at-charles-smith-wines-10-16-2014-1950
END:VEVENT

END:VCALENDAR
