BEGIN:VCALENDAR
VERSION:2.0
PRODID:-//ChamberMaster//Event Calendar 2.0//EN
METHOD:PUBLISH
X-PUBLISHED-TTL:P3D
REFRESH-INTERVAL:P3D
CALSCALE:GREGORIAN
BEGIN:VEVENT
DTSTART:20140608T220000Z
DTEND:20140608T233000Z
X-MICROSOFT-CDO-ALLDAYEVENT:FALSE
SUMMARY:Tofu Couture Cooking Class
DESCRIPTION:During this demonstration style class Chef Judith will teach you the tools and techniques of transforming tofu into delicious and flavorful creations. Enjoy samples of each recipe\, learn how to make them on your own\, and take home copies of each recipe featured. Tastings of Three Rivers wines that pair with this menu will be included in the class\, and glasses or bottles of wine will be available for purchase. Chef Judith is an American Chef\, restaurateur and cookbook author who has spent her professional life dedicated to the culinary crafts. Chef Judith remains an early proponent using regional seasonal whole foods\, organics\, clean meats\, mountain and wild sea foods in her signature recipes. Menu: Blistered Grapevine Skewers with Limestone Lavender Glaze\, Pan Blackened Tofu Steak Salad with Nanny Goat Buttermilk Squiggle\, and Chilled Kailua Curd with Vanilla Bean Savor
X-ALT-DESC;FMTTYPE=text/html:During this demonstration style class Chef Judith will teach you the tools and techniques of transforming tofu into delicious and flavorful creations. Enjoy samples of each recipe\, learn how to make them on your own\, and take home copies of each recipe featured. Tastings of Three Rivers wines that pair with this menu will be included in the class\, and glasses or bottles of wine will be available for purchase. Chef Judith is an American Chef\, restaurateur and cookbook author who has spent her professional life dedicated to the culinary crafts. Chef Judith remains an early proponent using regional seasonal whole foods\, organics\, clean meats\, mountain and wild sea foods in her signature recipes. Menu: Blistered Grapevine Skewers with Limestone Lavender Glaze\, Pan Blackened Tofu Steak Salad with Nanny Goat Buttermilk Squiggle\, and Chilled Kailua Curd with Vanilla Bean Savor
LOCATION:Three Rivers Winery 5641 Old Hwy 12 Walla Walla\, WA 99362
UID:e.65.1780
SEQUENCE:3
DTSTAMP:20260421T205247Z
URL:https://business.wwvchamber.com/events/details/tofu-couture-cooking-class-06-08-2014-1780
END:VEVENT

END:VCALENDAR
