BEGIN:VCALENDAR
VERSION:2.0
PRODID:-//ChamberMaster//Event Calendar 2.0//EN
METHOD:PUBLISH
X-PUBLISHED-TTL:P3D
REFRESH-INTERVAL:P3D
CALSCALE:GREGORIAN
BEGIN:VEVENT
DTSTART:20140911T010000Z
DTEND:20140911T023000Z
X-MICROSOFT-CDO-ALLDAYEVENT:FALSE
SUMMARY:Town Hall Meeting at the Walla Walla VA Medical Center
DESCRIPTION:Veterans\, families and community are invited to attend Walla Walla VA Medical Center's Town Hall Meeting on Wed.\, September 10th\, 6pm in the Theater.  \n\n\n\nLINK to TOWN HALL EVENT\n\n\n\nThe VA wants to hear from you how we can partner together to provide the best services possible to our nation's Veterans.  This event is free to the public. \n\n\n\nContact Linda Wondra\, Public Affairs\, with any questions:  509.525.5200\, ext. 26520.
X-ALT-DESC;FMTTYPE=text/html:<span style="color: rgb(0\, 0\, 0)\;"><span style="font-family: &quot\;Calibri&quot\;\,&quot\;sans-serif&quot\;\; font-size: 11pt\; mso-fareast-font-family: Calibri\; mso-fareast-theme-font: minor-latin\; mso-bidi-font-family: &quot\;Times New Roman&quot\;\; mso-ansi-language: EN-US\; mso-fareast-language: EN-US\; mso-bidi-language: AR-SA\;">Veterans\, families and community are invited to attend Walla Walla VA Medical Center&rsquo\;s Town Hall Meeting on Wed.\, September 10<sup>th</sup>\, 6pm in the Theater.&nbsp\;&nbsp\;<br />\n<br />\nLINK to&nbsp\;<a href="https://www.facebook.com/events/555915464514889/#!/events/555915464514889/">TOWN HALL EVENT</a><br />\n<br />\nThe VA wants to hear from you how we can partner together to provide the best services possible to our nation&rsquo\;s Veterans.&nbsp\; This event is free to the public.&nbsp\;<br />\n<br />\nContact Linda Wondra\, Public Affairs\, with any questions:&nbsp\; 509.525.5200\, ext. 26520.&nbsp\; </span></span>
LOCATION:Walla Walla VA Medical Center - Theater Bldg. 78 77 Wainwright Drive\, Walla Walla WA
UID:e.65.1916
SEQUENCE:3
DTSTAMP:20260421T141024Z
URL:https://business.wwvchamber.com/events/details/town-hall-meeting-at-the-walla-walla-va-medical-center-09-10-2014-1916
END:VEVENT

END:VCALENDAR
