BEGIN:VCALENDAR
VERSION:2.0
PRODID:-//ChamberMaster//Event Calendar 2.0//EN
METHOD:PUBLISH
X-PUBLISHED-TTL:P3D
REFRESH-INTERVAL:P3D
CALSCALE:GREGORIAN
BEGIN:VEVENT
DTSTART:20141209T030000Z
DTEND:20141209T040000Z
X-MICROSOFT-CDO-ALLDAYEVENT:FALSE
SUMMARY:Tree of Life Lighting Ceremony
DESCRIPTION:Please join Walla Walla Community Hospice for this special time to pay tribute to the people remembered on the Tree of Life. A $10 donation sponsors a light\, and we will add the name of a person to be remembered to the Tree of Life. With a donation of $25 or more you can also order a commemorative glass ornament. You may request the ornament be sent to a third party in recognition of your gift to Hospice if you desire. Place an order at www.wwhospice.org\, call 509-525-5561 or email to info@wwhospice.org.
X-ALT-DESC;FMTTYPE=text/html:Please join Walla Walla Community Hospice for this special time to pay tribute to the people remembered on the Tree of Life. A $10 donation sponsors a light\, and we will add the name of a person to be remembered to the Tree of Life. With a donation of $25 or more you can also order a commemorative glass ornament. You may request the ornament be sent to a third party in recognition of your gift to Hospice if you desire. Place an order at www.wwhospice.org\, call 509-525-5561 or email to info@wwhospice.org.
LOCATION:Die Brucke Building\, 1st & Main\, Downtown Walla Walla
UID:e.65.1961
SEQUENCE:3
DTSTAMP:20260421T090137Z
URL:https://business.wwvchamber.com/events/details/tree-of-life-lighting-ceremony-12-08-2014-1961
END:VEVENT

END:VCALENDAR
