BEGIN:VCALENDAR
VERSION:2.0
PRODID:-//ChamberMaster//Event Calendar 2.0//EN
METHOD:PUBLISH
X-PUBLISHED-TTL:P3D
REFRESH-INTERVAL:P3D
CALSCALE:GREGORIAN
BEGIN:VEVENT
DTSTART:20140918T230000Z
DTEND:20140919T023000Z
X-MICROSOFT-CDO-ALLDAYEVENT:FALSE
SUMMARY:Twilight Market
DESCRIPTION:New this year! Join us starting June 5 for the Twilight Downtown Farmers Market on First Avenue between Main and Alder. Produce\, artisans and much more! The market continues through September 25.
X-ALT-DESC;FMTTYPE=text/html:New this year! Join us starting June 5 for the Twilight Downtown Farmers Market on First Avenue between Main and Alder. Produce\, artisans and much more! The market continues through September 25.
LOCATION:First Avenue between Main and Alder
UID:e.65.1729
SEQUENCE:3
DTSTAMP:20260421T140239Z
URL:https://business.wwvchamber.com/events/details/twilight-market-09-18-2014-1729
END:VEVENT

END:VCALENDAR
