BEGIN:VCALENDAR
VERSION:2.0
PRODID:-//ChamberMaster//Event Calendar 2.0//EN
METHOD:PUBLISH
X-PUBLISHED-TTL:P3D
REFRESH-INTERVAL:P3D
CALSCALE:GREGORIAN
BEGIN:VEVENT
DTSTART:20140711T170000Z
DTEND:20140711T190000Z
X-MICROSOFT-CDO-ALLDAYEVENT:FALSE
SUMMARY:U.S. Army Corps of Engineers Walla Walla District Change-of-Command Ceremony
DESCRIPTION:The public is invited to attend the Walla Walla District\, U.S. Army Corps of Engineers\, change-of-command ceremony set for 10 a.m. on Friday\, July 11\, at the Marcus Whitman Hotel and Conference Center. Lt. Col. Timothy R. Vail will assume command of the District from departing Commander Lt. Col. Andrew D. Kelly. The ceremony will include the 312th U.S. Army Band and a ceremonial color guard from the cadet unit of the Junior ROTC at Walla Walla High School.
X-ALT-DESC;FMTTYPE=text/html:The public is invited to attend the Walla Walla District\, U.S. Army Corps of Engineers\, change-of-command ceremony set for 10 a.m. on Friday\, July 11\, at the Marcus Whitman Hotel and Conference Center. Lt. Col. Timothy R. Vail will assume command of the District from departing Commander Lt. Col. Andrew D. Kelly. The ceremony will include the 312th U.S. Army Band and a ceremonial color guard from the cadet unit of the Junior ROTC at Walla Walla High School.
LOCATION:Marcus Whitman Hotel and Conference Center\; 6 W. Rose Street\; Walla Walla\, WA
UID:e.65.1812
SEQUENCE:3
DTSTAMP:20260421T180741Z
URL:https://business.wwvchamber.com/events/details/u-s-army-corps-of-engineers-walla-walla-district-change-of-command-ceremony-07-11-2014-1812
END:VEVENT

END:VCALENDAR
