BEGIN:VCALENDAR
VERSION:2.0
PRODID:-//ChamberMaster//Event Calendar 2.0//EN
METHOD:PUBLISH
X-PUBLISHED-TTL:P3D
REFRESH-INTERVAL:P3D
CALSCALE:GREGORIAN
BEGIN:VEVENT
DTSTART:20240316T210000Z
DTEND:20240317T010000Z
X-MICROSOFT-CDO-ALLDAYEVENT:FALSE
SUMMARY:Vintage Market
DESCRIPTION:Vintage Market - come check it out!
X-ALT-DESC;FMTTYPE=text/html:Vintage Market - come check it out!
LOCATION:The Royal Block 222 Main Street - Waitsburg\, WA
UID:e.65.19881
SEQUENCE:3
DTSTAMP:20260425T225639Z
URL:https://business.wwvchamber.com/events/details/vintage-market-19881
END:VEVENT

END:VCALENDAR
