BEGIN:VCALENDAR
VERSION:2.0
PRODID:-//ChamberMaster//Event Calendar 2.0//EN
METHOD:PUBLISH
X-PUBLISHED-TTL:P3D
REFRESH-INTERVAL:P3D
CALSCALE:GREGORIAN
BEGIN:VEVENT
DTSTART:20141114T030000Z
DTEND:20141123T030000Z
X-MICROSOFT-CDO-ALLDAYEVENT:FALSE
SUMMARY:WaHi Drama presents Much Ado About Nothing
DESCRIPTION:See William Shakespeare's great comedy in an intimate "in the round" space. Nov 13-15 and 20-22 at 7pm. Nov 15 and 22 at 2pm. Tickets\, adults $12 and students $6\, may be purchased at the WaHi business office 8am to 3pm Monday thru Friday or one hour prior to curtain. Online purchases may be made at intouch.wwps.org. Get your tickets early. Space is limited.
X-ALT-DESC;FMTTYPE=text/html:See William Shakespeare&#39\;s great comedy in an intimate &quot\;in the round&quot\; space. Nov 13-15 and 20-22 at 7pm. Nov 15 and 22 at 2pm. Tickets\, adults $12 and students $6\, may be purchased at the WaHi business office 8am to 3pm Monday thru Friday or one hour prior to curtain. Online purchases may be made at intouch.wwps.org. Get your tickets early. Space is limited.
LOCATION:Walla Walla High School 800 Abbott Road Performing Arts Auditorium
UID:e.65.2235
SEQUENCE:3
DTSTAMP:20260421T104737Z
URL:https://business.wwvchamber.com/events/details/wahi-drama-presents-much-ado-about-nothing-11-13-2014-2235
END:VEVENT

END:VCALENDAR
