BEGIN:VCALENDAR
VERSION:2.0
PRODID:-//ChamberMaster//Event Calendar 2.0//EN
METHOD:PUBLISH
X-PUBLISHED-TTL:P3D
REFRESH-INTERVAL:P3D
CALSCALE:GREGORIAN
BEGIN:VEVENT
DTSTART:20141015T180000Z
DTEND:20141015T190000Z
X-MICROSOFT-CDO-ALLDAYEVENT:FALSE
SUMMARY:Walk a Mile in Her Shoes
DESCRIPTION:You can't really understand others until you've "walked a mile in their shoes." \n\nThis international event is part of the United Gender Movement to end rape\, sexual assault and gender violence\, and it?s a playful opportunity for men to raise awareness in their community about the serious problem of sexualized violence against women. Yes\, men will be--literally--walking a mile in women's shoes.\n\nMen from the Washington State Penitentiary Employee Association\, some of whom have witnessed the results of family violence\, will lead the walk. Students from Walla Walla University will help distribute information along the route.
X-ALT-DESC;FMTTYPE=text/html:You can't really understand others until you've "walked a mile in their shoes." \n\nThis international event is part of the United Gender Movement to end rape\, sexual assault and gender violence\, and it?s a playful opportunity for men to raise awareness in their community about the serious problem of sexualized violence against women. Yes\, men will be--literally--walking a mile in women's shoes.\n\nMen from the Washington State Penitentiary Employee Association\, some of whom have witnessed the results of family violence\, will lead the walk. Students from Walla Walla University will help distribute information along the route. 
LOCATION:Heritage Park
UID:e.65.1978
SEQUENCE:3
DTSTAMP:20260421T121441Z
URL:https://business.wwvchamber.com/events/details/walk-a-mile-in-her-shoes-10-15-2014-1978
END:VEVENT

END:VCALENDAR
