BEGIN:VCALENDAR
VERSION:2.0
PRODID:-//ChamberMaster//Event Calendar 2.0//EN
METHOD:PUBLISH
X-PUBLISHED-TTL:P3D
REFRESH-INTERVAL:P3D
CALSCALE:GREGORIAN
BEGIN:VEVENT
DTSTART:20240511T010000Z
DTEND:20240511T050000Z
X-MICROSOFT-CDO-ALLDAYEVENT:FALSE
SUMMARY:Walla Walla Elks Lodge Country Western Dance & Dinner
DESCRIPTION:Join us for a lively evening of Country Western dancing at the Walla Walla Elks Lodge! Whether you're a seasoned dancer or a beginner\, everyone is welcome to join in the fun. No membership required! Schedule: 6:00 PM: Dinner 6:00 PM: Two-Step Tutorial 7:00 PM: Country Western Dance Cost: $15 at the door Bring your friends and family for a night of great music\, delicious food\, and dancing. Let's kick up our heels and make some memories together!
X-ALT-DESC;FMTTYPE=text/html:Join us for a lively evening of Country Western dancing at the Walla Walla Elks Lodge! Whether you&#39\;re a seasoned dancer or a beginner\, everyone is welcome to join in the fun. No membership required! Schedule: 6:00 PM: Dinner 6:00 PM: Two-Step Tutorial 7:00 PM: Country Western Dance Cost: $15 at the door Bring your friends and family for a night of great music\, delicious food\, and dancing. Let&#39\;s kick up our heels and make some memories together!
LOCATION:152 Par 72 Dr Walla Walla\, WA 99362-5519
UID:e.65.20069
SEQUENCE:3
DTSTAMP:20260425T174504Z
URL:https://business.wwvchamber.com/events/details/walla-walla-elks-lodge-country-western-dance-dinner-20069
END:VEVENT

END:VCALENDAR
