BEGIN:VCALENDAR
VERSION:2.0
PRODID:-//ChamberMaster//Event Calendar 2.0//EN
METHOD:PUBLISH
X-PUBLISHED-TTL:P3D
REFRESH-INTERVAL:P3D
CALSCALE:GREGORIAN
BEGIN:VEVENT
DTSTART:20140321T190000Z
DTEND:20140323T230000Z
X-MICROSOFT-CDO-ALLDAYEVENT:FALSE
SUMMARY:WALLA WALLA HOME AND OUTDOOR SHOW
DESCRIPTION:CAPPS BROADCAST GROUP PRESENTS THE THIRD ANNUAL HOME AND OUTDOOR SHOW AT THE WALLA WALLA FAIRGROUNDS PAVILION THIS WEEKEND. DOZENS OF VENDORS ON HAND WITH THE LATEST IN PRODUCTS AND SERVICES FOR THE HOME AND THE GARDEN. KIDS ZONE AND FOOD TRUCKS TOO!!!
X-ALT-DESC;FMTTYPE=text/html:CAPPS BROADCAST GROUP PRESENTS THE THIRD ANNUAL HOME AND OUTDOOR SHOW AT THE WALLA WALLA FAIRGROUNDS PAVILION THIS WEEKEND. DOZENS OF VENDORS ON HAND WITH THE LATEST IN PRODUCTS AND SERVICES FOR THE HOME AND THE GARDEN. KIDS ZONE AND FOOD TRUCKS TOO!!!
LOCATION:WALLA WALLA FAIRGROUNDS PAVILION
UID:e.65.1649
SEQUENCE:3
DTSTAMP:20260422T004800Z
URL:https://business.wwvchamber.com/events/details/walla-walla-home-and-outdoor-show-03-21-2014-1649
END:VEVENT

END:VCALENDAR
