BEGIN:VCALENDAR
VERSION:2.0
PRODID:-//ChamberMaster//Event Calendar 2.0//EN
METHOD:PUBLISH
X-PUBLISHED-TTL:P3D
REFRESH-INTERVAL:P3D
CALSCALE:GREGORIAN
BEGIN:VEVENT
DTSTART;VALUE=DATE:20140602
DTEND;VALUE=DATE:20140603
TRANSP:TRANSPARENT
X-MICROSOFT-CDO-ALLDAYEVENT:TRUE
SUMMARY:Walla Walla Pediatric Dentistry grand opening IPAD giveaway!
DESCRIPTION:Draw your favorite find in Walla Walla.  It could be a person\, place\, or thing.  Anything that makes you SMILE we want to see it.  For further details and entry form go to our website www.wallakids.com.  WINNER will be awarded an IPAD mini and mom or dad will receive a large IPAD. \n\n\n\nGOOD LUCK
X-ALT-DESC;FMTTYPE=text/html:Draw your favorite find in Walla Walla.&nbsp\; It could be a person\, place\, or thing.&nbsp\; Anything that makes you SMILE we want to see it.&nbsp\; For further details and entry form&nbsp\;go to our website <a href="http://www.wallakids.com">www.wallakids.com</a>.&nbsp\; WINNER will be awarded an IPAD mini and mom or dad will receive a large IPAD.&nbsp\;<br />\n<br />\nGOOD LUCK
LOCATION:Walla Walla Pediatric Dentistry 614 E Alder Street\, Suite 6 Walla Walla\, WA 99362 (509) 522-0555
UID:e.65.1744
SEQUENCE:3
DTSTAMP:20260421T214556Z
URL:https://business.wwvchamber.com/events/details/walla-walla-pediatric-dentistry-grand-opening-ipad-giveaway-06-02-2014-1744
END:VEVENT

END:VCALENDAR
