BEGIN:VCALENDAR
VERSION:2.0
PRODID:-//ChamberMaster//Event Calendar 2.0//EN
METHOD:PUBLISH
X-PUBLISHED-TTL:P3D
REFRESH-INTERVAL:P3D
CALSCALE:GREGORIAN
BEGIN:VEVENT
DTSTART;VALUE=DATE:20141003
DTEND;VALUE=DATE:20141101
TRANSP:TRANSPARENT
X-MICROSOFT-CDO-ALLDAYEVENT:TRUE
SUMMARY:Walla Walla Pediatric Dentistry Halloween Coloring Contest!!!
DESCRIPTION:Enter our Halloween Coloring Contest for a chance to win a Kid's Sonicare toothbrush!  $100 Value!  You can print an entry from our website or pick one up at our office. \n\n\n\nWalla Walla Pedatic Dentistry\n\n61 E Alder ST STE 6\n\nWalla Walla\, Wa 99362\n\n(509) 522-0555\n\n\n\nwww.wallakids.com
X-ALT-DESC;FMTTYPE=text/html:<p>Enter our Halloween Coloring Contest for a chance to win a Kid&#39\;s Sonicare toothbrush!&nbsp\; $100 Value!&nbsp\; You can print an entry from our website or pick one up at our office.&nbsp\;<br />\n<br />\nWalla Walla Pedatic Dentistry<br />\n61 E Alder ST STE 6<br />\nWalla Walla\, Wa 99362<br />\n(509) 522-0555<br />\n<br />\n<a href="http://www.wallakids.com">www.wallakids.com</a><br />\n&nbsp\;</p>\n
LOCATION:Walla Walla Pediatric Dentistry
UID:e.65.1954
SEQUENCE:3
DTSTAMP:20260421T121627Z
URL:https://business.wwvchamber.com/events/details/walla-walla-pediatric-dentistry-halloween-coloring-contest-10-03-2014-1954
END:VEVENT

END:VCALENDAR
