BEGIN:VCALENDAR
VERSION:2.0
PRODID:-//ChamberMaster//Event Calendar 2.0//EN
METHOD:PUBLISH
X-PUBLISHED-TTL:P3D
REFRESH-INTERVAL:P3D
CALSCALE:GREGORIAN
BEGIN:VEVENT
DTSTART:20140622T160000Z
DTEND:20140622T230000Z
X-MICROSOFT-CDO-ALLDAYEVENT:FALSE
SUMMARY:Walla Walla Sweet Onion Festival
DESCRIPTION:Click Here For the Line-Up of Activities!  http://www.sweetonions.org/festival/festival-lineup
X-ALT-DESC;FMTTYPE=text/html:Click Here For the Line-Up of Activities! &nbsp\;<a href="http://www.sweetonions.org/festival/festival-lineup">http://www.sweetonions.org/festival/festival-lineup</a>
LOCATION:Downtown Walla Walla
UID:e.65.1815
SEQUENCE:3
DTSTAMP:20260421T205555Z
URL:https://business.wwvchamber.com/events/details/walla-walla-sweet-onion-festival-06-22-2014-1815
END:VEVENT

END:VCALENDAR
