BEGIN:VCALENDAR
VERSION:2.0
PRODID:-//ChamberMaster//Event Calendar 2.0//EN
METHOD:PUBLISH
X-PUBLISHED-TTL:P3D
REFRESH-INTERVAL:P3D
CALSCALE:GREGORIAN
BEGIN:VEVENT
DTSTART:20141121T023000Z
DTEND:20141121T040000Z
X-MICROSOFT-CDO-ALLDAYEVENT:FALSE
SUMMARY:Walla Walla Symphony Free Family Concert and "Foodraiser"
DESCRIPTION:A program great for the entire family!  Admission is free with a non-perishable food item donation.  All proceeds benefit Blue Mountain Action Council's Food Bank.\n\n					\n\n					Saint-Saens\, Carnival of the Animals\n\n					Vivaldi\, Spring Concerto\, movement 1\n\n					Saint-Saens\, Cello Concerto\, movement 1\n\n					Mexicana Ballet Folklorico\n\n					\n\n					This concert is sponsored by Whitman College\, Key Technology\, Community Bank\, Tallmans\, and Union Bulletin.
X-ALT-DESC;FMTTYPE=text/html:<table class="twEventDetailTable" border="0" cellpadding="0" cellspacing="0">\n	<tbody>\n		<tr>\n			<th class="twEventDetailLabel">\n				&nbsp\;</th>\n			<td class="twEventDetailData">\n				<p class="firstp">\n					A program great for the entire family! &nbsp\;Admission is free with a non-perishable food item donation. &nbsp\;All proceeds benefit Blue Mountain Action Council's Food Bank.<br>\n					<br>\n					Saint-Saens\, Carnival of the Animals<br>\n					Vivaldi\, Spring Concerto\, movement 1<br>\n					Saint-Saens\, Cello Concerto\, movement 1<br>\n					Mexicana Ballet Folklorico<br>\n					<br>\n					This concert is sponsored by Whitman College\, Key Technology\, Community Bank\, Tallmans\, and Union Bulletin.<br>\n					&nbsp\;</p>\n			</td>\n		</tr>\n	</tbody>\n</table>\n
LOCATION:Cordiner Hall 46 S. Park St
UID:e.65.1957
SEQUENCE:3
DTSTAMP:20260421T102923Z
URL:https://business.wwvchamber.com/events/details/walla-walla-symphony-free-family-concert-and-foodraiser-11-20-2014-1957
END:VEVENT

END:VCALENDAR
