BEGIN:VCALENDAR
VERSION:2.0
PRODID:-//ChamberMaster//Event Calendar 2.0//EN
METHOD:PUBLISH
X-PUBLISHED-TTL:P3D
REFRESH-INTERVAL:P3D
CALSCALE:GREGORIAN
BEGIN:VEVENT
DTSTART:20140428T020000Z
DTEND:20140428T033000Z
X-MICROSOFT-CDO-ALLDAYEVENT:FALSE
SUMMARY:Walla Walla University Steel Band
DESCRIPTION:WWU Steel Band concert featuring guest artist Tom Miller\, director of the steel drum program at the University of Denver. Miller is a composer\, arranger\, publisher\, educator as well as one of the most respected and sought after steel drum soloists and clinicians today.
X-ALT-DESC;FMTTYPE=text/html:WWU Steel Band concert featuring guest artist Tom Miller\, director of the steel drum program at the University of Denver. Miller is a composer\, arranger\, publisher\, educator as well as one of the most respected and sought after steel drum soloists and clinicians today.
LOCATION:GESA Power House Theatre 111 N. Sixth Avenue Walla Walla\, WA
UID:e.65.1675
SEQUENCE:3
DTSTAMP:20260421T225437Z
URL:https://business.wwvchamber.com/events/details/walla-walla-university-steel-band-04-27-2014-1675
END:VEVENT

END:VCALENDAR
